BEGIN:VCALENDAR
VERSION:2.0
PRODID:-//AKKS Stavanger - ECPv4.9.13//NONSGML v1.0//EN
CALSCALE:GREGORIAN
METHOD:PUBLISH
X-WR-CALNAME:AKKS Stavanger
X-ORIGINAL-URL:https://akks.no/stavanger
X-WR-CALDESC:Events for AKKS Stavanger
BEGIN:VTIMEZONE
TZID:Europe/Oslo
BEGIN:DAYLIGHT
TZOFFSETFROM:+0100
TZOFFSETTO:+0200
TZNAME:CEST
DTSTART:20170326T010000
END:DAYLIGHT
BEGIN:STANDARD
TZOFFSETFROM:+0200
TZOFFSETTO:+0100
TZNAME:CET
DTSTART:20171029T010000
END:STANDARD
END:VTIMEZONE
BEGIN:VEVENT
DTSTART;TZID=Europe/Oslo:20171006T080000
DTEND;TZID=Europe/Oslo:20171006T170000
DTSTAMP:20260422T011453
CREATED:20171002T071025Z
LAST-MODIFIED:20171002T071025Z
UID:13-1507276800-1507309200@akks.no
SUMMARY:Test Hendelse Stavanger
DESCRIPTION:En hoved beskrivelse \n
URL:https://akks.no/stavanger/event/test-hendelse-stavanger/
END:VEVENT
END:VCALENDAR